BEGIN:VCALENDAR
VERSION:2.0
PRODID:-//Grüne Niedersachsen - ECPv6.15.20//NONSGML v1.0//EN
CALSCALE:GREGORIAN
METHOD:PUBLISH
X-WR-CALNAME:Grüne Niedersachsen
X-ORIGINAL-URL:https://gruene-niedersachsen.de
X-WR-CALDESC:Veranstaltungen für Grüne Niedersachsen
REFRESH-INTERVAL;VALUE=DURATION:PT1H
X-Robots-Tag:noindex
X-PUBLISHED-TTL:PT1H
BEGIN:VTIMEZONE
TZID:Europe/Berlin
BEGIN:DAYLIGHT
TZOFFSETFROM:+0100
TZOFFSETTO:+0200
TZNAME:CEST
DTSTART:20230326T010000
END:DAYLIGHT
BEGIN:STANDARD
TZOFFSETFROM:+0200
TZOFFSETTO:+0100
TZNAME:CET
DTSTART:20231029T010000
END:STANDARD
BEGIN:DAYLIGHT
TZOFFSETFROM:+0100
TZOFFSETTO:+0200
TZNAME:CEST
DTSTART:20240331T010000
END:DAYLIGHT
BEGIN:STANDARD
TZOFFSETFROM:+0200
TZOFFSETTO:+0100
TZNAME:CET
DTSTART:20241027T010000
END:STANDARD
BEGIN:DAYLIGHT
TZOFFSETFROM:+0100
TZOFFSETTO:+0200
TZNAME:CEST
DTSTART:20250330T010000
END:DAYLIGHT
BEGIN:STANDARD
TZOFFSETFROM:+0200
TZOFFSETTO:+0100
TZNAME:CET
DTSTART:20251026T010000
END:STANDARD
BEGIN:DAYLIGHT
TZOFFSETFROM:+0100
TZOFFSETTO:+0200
TZNAME:CEST
DTSTART:20260329T010000
END:DAYLIGHT
BEGIN:STANDARD
TZOFFSETFROM:+0200
TZOFFSETTO:+0100
TZNAME:CET
DTSTART:20261025T010000
END:STANDARD
END:VTIMEZONE
BEGIN:VEVENT
DTSTART;TZID=Europe/Berlin:20250915T183000
DTEND;TZID=Europe/Berlin:20250915T203000
DTSTAMP:20260422T114849
CREATED:20260114T160116Z
LAST-MODIFIED:20260114T160116Z
UID:10000074-1757961000-1757968200@gruene-niedersachsen.de
SUMMARY:LAG Wirtschaft und Finanzen
DESCRIPTION:Bitte Zugangsdaten erfragen: lag-wirtschaft-finanzen@gruene-niedersachsen \nDie Landesarbeitsgemeinschaften (LAGen) tagen öffentlich. Mitglieder und Nicht-Mitglieder\, die sich für das Thema interessieren\, sind gerne gesehen und können aktiv teilnehmen. Bei Interesse könnt ihr direkt zum Treffen gehen oder euch bei den Sprecher*innen ankündigen.
URL:https://gruene-niedersachsen.de/termin/lag-wirtschaft-und-finanzen-6/
LOCATION:Online
ORGANIZER;CN="LAG Wirtschaft & Finanzen":MAILTO:lag-wirtschaft-finanzen@gruene-niedersachsen.de
END:VEVENT
BEGIN:VEVENT
DTSTART;TZID=Europe/Berlin:20250908T190000
DTEND;TZID=Europe/Berlin:20250908T210000
DTSTAMP:20260422T114849
CREATED:20260114T160116Z
LAST-MODIFIED:20260114T160116Z
UID:10000078-1757358000-1757365200@gruene-niedersachsen.de
SUMMARY:LAG Frauenpolitik
DESCRIPTION:Bitte Zugangsdaten erfragen: lag-frauen@gruene-niedersachsen.de \nVorläufige Tagesordnung: \n1. Begrüßung\, Ankommen\, Befinden\n2. Berichte aus den Gremien (u.a. Bundestag\, Landtag\, Landesvorstand\, BAG\, Bundesfrauenrat)\n3. Wahlen zum Bundesfrauenrat auf der kommenden LDK\, Vergabe eines Votums\n4. Veranstaltungen\n5. Sonstiges \nDie Landesarbeitsgemeinschaften (LAGen) tagen öffentlich. Mitglieder und Nicht-Mitglieder\, die sich für das Thema interessieren\, sind gerne gesehen und können aktiv teilnehmen. Bei Interesse könnt ihr direkt zum Treffen gehen oder euch bei den Sprecher*innen ankündigen.
URL:https://gruene-niedersachsen.de/termin/lag-frauenpolitik-2/
LOCATION:Online
ORGANIZER;CN="LAG Frauen":MAILTO:lag-frauen@gruene-niedersachsen.de
END:VEVENT
BEGIN:VEVENT
DTSTART;TZID=Europe/Berlin:20250905T190000
DTEND;TZID=Europe/Berlin:20250905T210000
DTSTAMP:20260422T114849
CREATED:20260114T160117Z
LAST-MODIFIED:20260114T160117Z
UID:10000083-1757098800-1757106000@gruene-niedersachsen.de
SUMMARY:LAG Häfen – Schifffahrt – Küstenschutz
DESCRIPTION:Bitte Zugangsdaten erfragen: lag-haefen@gruene-niedersachsen.de \nDie Landesarbeitsgemeinschaften (LAGen) tagen öffentlich. Mitglieder und Nicht-Mitglieder\, die sich für das Thema interessieren\, sind gerne gesehen und können aktiv teilnehmen. Bei Interesse könnt ihr direkt zum Treffen gehen oder euch bei den Sprecher*innen ankündigen.
URL:https://gruene-niedersachsen.de/termin/lag-haefen-schifffahrt-kuestenschutz-2/
LOCATION:Online
ORGANIZER;CN="LAG H%C3%A4fen & Schifffahrt":MAILTO:lag-haefen@gruene-niedersachsen.de
END:VEVENT
BEGIN:VEVENT
DTSTART;TZID=Europe/Berlin:20250905T163000
DTEND;TZID=Europe/Berlin:20250905T200000
DTSTAMP:20260422T114849
CREATED:20260114T160118Z
LAST-MODIFIED:20260114T160118Z
UID:10000093-1757089800-1757102400@gruene-niedersachsen.de
SUMMARY:LAG Natur\, Umwelt und Verbraucherschutz
DESCRIPTION:Bitte Zugangsdaten erfragen:  lag-natur-umwelt@gruene-niedersachsen.de \nVorläufige Tagesordnung:\n1. Begrüßung und Organisatorisches (Vorstellung\, Protokoll)\n2. Aktuelles aus dem Landtag (u.a. zu geplanten Gesetzesvorhaben)\n3. Gemeinsames Positionspapier der BAG Ökologie und der BAG Landwirtschaft „Erhalten\, was uns\nerhält“ Zukunft für unsere Wälder: Diskussion und Anpassungsbedarf für Niedersachsen „\n4. Jagdgesetznovelle: Aktueller Stand (angefragt Steffen Mallast\, Referent der Landtagsfraktion)\n5. Stand der Umsetzung des Gesetzes zur Wiederherstellung der Natur im Bund und in Niedersachsen\n(angefragt Laura Meyer \, Umweltministerium)\n6. Dr. Imke Hennemann-Kreikenbohm: Kritisches Großprojekt der Landesgartenschau Bad Nenndorf\n2026 im LSG Süd-Deister\n7. Wie sieht es mit der Umsetzung des Nds. Weges aus? (Laura Meyer\, Umweltministerium\,\nLandwirtschaftsministerium angefragt)\n8. „Grün macht Schule“ in Berlin. Ein Modell auch für Niedersachsen?\n9. Sonstiges (u.a. Terminplanung 2026) \nDie Landesarbeitsgemeinschaften (LAGen) tagen öffentlich. Mitglieder und Nicht-Mitglieder\, die sich für das Thema interessieren\, sind gerne gesehen und können aktiv teilnehmen. Bei Interesse könnt ihr direkt zum Treffen gehen oder euch bei den Sprecher*innen ankündigen.
URL:https://gruene-niedersachsen.de/termin/lag-natur-umwelt-und-verbraucherschutz-3/
LOCATION:Online
ORGANIZER;CN="LAG Natur%2C Umwelt und Verbraucherschutz":MAILTO:lag-natur-umwelt@gruene-niedersachsen.de
END:VEVENT
BEGIN:VEVENT
DTSTART;TZID=Europe/Berlin:20250827T180000
DTEND;TZID=Europe/Berlin:20250827T210000
DTSTAMP:20260422T114849
CREATED:20260114T160123Z
LAST-MODIFIED:20260114T160123Z
UID:10000126-1756317600-1756328400@gruene-niedersachsen.de
SUMMARY:Fit für den Kommunalwahlkampf 2026 - Online-Workshop für Vorstände
DESCRIPTION:Unser dreistündiger Online-Workshop richtet sich an Vorstandsmitglieder von Kreis- und Ortsverbänden\, die ihren nächsten Wahlkampf effektiv planen und viele Kandidierende gut begleiten wollen. \nWo: Online (Zugangsdaten nach Anmeldung)\nFür wen: Vorstände\, Mitglieder von Wahlkampfteams\, Kreisgeschäftsführungen bei BÜNDNIS 90/DIE GRÜNEN\nTeilnehmendenzahl: 15\nAnforderungen: Computer mit Kamera\nModeration: Elke Wohlfarth\, Mediatorin & Referentin für Parteientwicklung\, Landesverband Niedersachsen BÜNDNIS 90/DIE GRÜNEN – \nWas erwartet euch?\n• Die 5 Phasen eines erfolgreichen Wahlkampfs\n• Tipps zur Begleitung von Kandidierenden\n• Digitale Tools & Vorlagen für eure Planung\n• Austausch mit anderen Vorständen \nMeldet euch jetzt an:
URL:https://gruene-niedersachsen.de/termin/fit-fuer-den-kommunalwahlkampf-2026-online-workshop-fuer-vorstaende/
LOCATION:Online
ORGANIZER;CN="B%C3%9CNDNIS 90/DIE GR%C3%9CNEN Landesverband Niedersachsen":MAILTO:landesverband@gruene-niedersachsen.de
END:VEVENT
BEGIN:VEVENT
DTSTART;TZID=Europe/Berlin:20250823T100000
DTEND;TZID=Europe/Berlin:20250823T140000
DTSTAMP:20260422T114849
CREATED:20260114T160118Z
LAST-MODIFIED:20260114T160118Z
UID:10000091-1755943200-1755957600@gruene-niedersachsen.de
SUMMARY:ABGESAGT - LAG Tierschutzpolitik
DESCRIPTION:Bitte Zugangsdaten erfragen: lag-tierschutzpolitik@gruene-niedersachsen.de \nDie Landesarbeitsgemeinschaften (LAGen) tagen öffentlich. Mitglieder und Nicht-Mitglieder\, die sich für das Thema interessieren\, sind gerne gesehen und können aktiv teilnehmen. Bei Interesse könnt ihr direkt zum Treffen gehen oder euch bei den Sprecher*innen ankündigen.
URL:https://gruene-niedersachsen.de/termin/abgesagt-lag-tierschutzpolitik/
LOCATION:Online
ORGANIZER;CN="LAG Tierschutzpolitik":MAILTO:lag-tierschutzpolitik@gruene-niedersachsen.de
END:VEVENT
BEGIN:VEVENT
DTSTART;TZID=Europe/Berlin:20250822T180000
DTEND;TZID=Europe/Berlin:20250822T200000
DTSTAMP:20260422T114849
CREATED:20260114T160133Z
LAST-MODIFIED:20260114T160133Z
UID:10000210-1755885600-1755892800@gruene-niedersachsen.de
SUMMARY:LAG Wissenschaft\, Hochschule und Technologie
DESCRIPTION:Bitte Zugangsdaten erfragen: lag-hochschule@gruene-niedersachsen.de \nVorläufige Tagesordnung: \nTOP1: Begrüßung und Vorstellungsrunde \nTOP2: KI in der Hochschullehre – Input von Annika Schmidt\, Hochschule Osnabrück \nTOP3: Neues aus dem Landtag (Pippa) \nTOP4: Neues aus der BAG (Corinna und Lucas) \nTOP5: Update zum LDK Antrag zu Hochschulsanierungen \nTOP6: Aktuelles \nTOP7: Sonstiges \nDie Landesarbeitsgemeinschaften (LAGen) tagen öffentlich. Mitglieder und Nicht-Mitglieder\, die sich für das Thema interessieren\, sind gerne gesehen und können aktiv teilnehmen. Bei Interesse könnt ihr direkt zum Treffen gehen oder euch bei den Sprecher*innen ankündigen.
URL:https://gruene-niedersachsen.de/termin/lag-wissenschaft-hochschule-und-technologie-3/
LOCATION:Online
ORGANIZER;CN="LAG Wissenschaft%2C Hochschule und Technologie":MAILTO:lag-hochschule@gruene-niedersachsen.de
END:VEVENT
BEGIN:VEVENT
DTSTART;TZID=Europe/Berlin:20250821T180000
DTEND;TZID=Europe/Berlin:20250821T210000
DTSTAMP:20260422T114849
CREATED:20260114T160123Z
LAST-MODIFIED:20260114T160123Z
UID:10000127-1755799200-1755810000@gruene-niedersachsen.de
SUMMARY:Fit für den Kommunalwahlkampf 2026 - Online-Workshop für Vorstände
DESCRIPTION:Unser dreistündiger Online-Workshop richtet sich an Vorstandsmitglieder von Kreis- und Ortsverbänden\, die ihren nächsten Wahlkampf effektiv planen und viele Kandidierende gut begleiten wollen. \nWo: Online (Zugangsdaten nach Anmeldung)\nFür wen: Vorstände\, Mitglieder von Wahlkampfteams\, Kreisgeschäftsführungen bei BÜNDNIS 90/DIE GRÜNEN\nTeilnehmendenzahl: 15\nAnforderungen: Computer mit Kamera\nModeration: Elke Wohlfarth\, Mediatorin & Referentin für Parteientwicklung\, Landesverband Niedersachsen BÜNDNIS 90/DIE GRÜNEN – \nWas erwartet euch?\n• Die 5 Phasen eines erfolgreichen Wahlkampfs\n• Tipps zur Begleitung von Kandidierenden\n• Digitale Tools & Vorlagen für eure Planung\n• Austausch mit anderen Vorständen \nMeldet euch jetzt an:
URL:https://gruene-niedersachsen.de/termin/fit-fuer-den-kommunalwahlkampf-2026-online-workshop-fuer-vorstaende-2/
LOCATION:Online
ORGANIZER;CN="B%C3%9CNDNIS 90/DIE GR%C3%9CNEN Landesverband Niedersachsen":MAILTO:landesverband@gruene-niedersachsen.de
END:VEVENT
BEGIN:VEVENT
DTSTART;TZID=Europe/Berlin:20250820T190000
DTEND;TZID=Europe/Berlin:20250820T210000
DTSTAMP:20260422T114849
CREATED:20260114T160119Z
LAST-MODIFIED:20260114T160119Z
UID:10000099-1755716400-1755723600@gruene-niedersachsen.de
SUMMARY:LAG Gesundheit und Pflege
DESCRIPTION:Bitte Zugangsdaten erfragen: lag-gesundheit@gruene-niedersachsen.de \nVorläufige Tagesordnung \n\nEinleitung\nNeuwahlen LAG-Sprecher*in: bisherige Kandidat*in: Theresa und Martin\nDa die Wahlen geheim stattfinden müssen\, wird sich Jan Heers aus der Landesgeschäftsstelle zuschalten und die Wahlen organisieren\nNeuwahl Delegierte BAG-Gesundheit und Soziales: Kandidaten bitte melden!!!\nBericht Tanja Meyer „Gesunde Geburt“ fällt wegen Terminüberschneidung aus\nBericht Eva Viehoff über den CDU-Antrag „Die Zukunft der Medizin: geschlechtsspezifische Forschung und Versorgung stärken!“\, definitive Zusage steht noch aus\nLong-Covid (Jochen Stiepel\, Martin Kirschstein)\nAus aktuellem Anlass: Konsequenzen aus dem aktuellen Urteil des Arbeitsgerichtes Hamm zur Untersagung von Schwangerschaftsabbrüchen (Oliver)\, falls gewünscht\, könnte ich ein paar Folien zur ELSA-Studie präsentieren\nVerschiedenes\n\nDie Landesarbeitsgemeinschaften (LAGen) tagen öffentlich. Mitglieder und Nicht-Mitglieder\, die sich für das Thema interessieren\, sind gerne gesehen und können aktiv teilnehmen. Bei Interesse könnt ihr direkt zum Treffen gehen oder euch bei den Sprecher*innen ankündigen.
URL:https://gruene-niedersachsen.de/termin/lag-gesundheit-und-pflege-3/
LOCATION:Online
ORGANIZER;CN="LAG Gesundheit & Pflege":MAILTO:lag-gesundheit@gruene-niedersachsen.de
END:VEVENT
BEGIN:VEVENT
DTSTART;TZID=Europe/Berlin:20250819T180000
DTEND;TZID=Europe/Berlin:20250819T200000
DTSTAMP:20260422T114849
CREATED:20260114T160119Z
LAST-MODIFIED:20260114T160119Z
UID:10000101-1755626400-1755633600@gruene-niedersachsen.de
SUMMARY:LAG Kultur
DESCRIPTION:Bitte die Zugangsdaten erfragen:  lag-kultur@gruene-niedersachsen.de \nVorläufige Tagesordnung: \n1. Begrüßung \n2. Bericht Eva Viehoff MdL \n3. Symposium im Januar – Bericht Vera Lüdeck \n4. Erwartungen / Wünsche an die LAG \n5. Sonstiges \nDie Landesarbeitsgemeinschaften (LAGen) tagen öffentlich. Mitglieder und Nicht-Mitglieder\, die sich für das Thema interessieren\, sind gerne gesehen und können aktiv teilnehmen. Bei Interesse könnt ihr direkt zum Treffen gehen oder euch bei den Sprecher*innen ankündigen.
URL:https://gruene-niedersachsen.de/termin/lag-kultur-2/
LOCATION:Online
ORGANIZER;CN="LAG Kultur":MAILTO:lag-kultur@gruene-niedersachsen.de
END:VEVENT
BEGIN:VEVENT
DTSTART;TZID=Europe/Berlin:20250815T190000
DTEND;TZID=Europe/Berlin:20250815T210000
DTSTAMP:20260422T114849
CREATED:20260114T160125Z
LAST-MODIFIED:20260114T160125Z
UID:10000147-1755284400-1755291600@gruene-niedersachsen.de
SUMMARY:LAG Postwachstum und Gemeinwohl
DESCRIPTION:Bitte die Zugangsdaten erfragen: lag-postwachstum@gruene-niedersachsen.de \nTagesordnung: \n1. Begrüßung\, Genehmigung des Protokolls\, kurze Vorstellungsrunde\n2. MdL-Bericht aus dem Landtag  und zu Fachveranstalrung Kreislaufwirtschaft\n3. Arbeitsgruppe Fachtagung: Vorschläge\, Austausch\n4. Antrag von Alex zu Materialverbrauch\n5. Verschiedenes \nDie Landesarbeitsgemeinschaften (LAGen) tagen öffentlich. Mitglieder und Nicht-Mitglieder\, die sich für das Thema interessieren\, sind gerne gesehen und können aktiv teilnehmen. Bei Interesse könnt ihr direkt zum Treffen gehen oder euch bei den Sprecher*innen ankündigen.
URL:https://gruene-niedersachsen.de/termin/lag-postwachstum-und-gemeinwohl-5/
LOCATION:Online
END:VEVENT
BEGIN:VEVENT
DTSTART;TZID=Europe/Berlin:20250808T163000
DTEND;TZID=Europe/Berlin:20250808T190000
DTSTAMP:20260422T114849
CREATED:20260114T160119Z
LAST-MODIFIED:20260114T160119Z
UID:10000102-1754670600-1754679600@gruene-niedersachsen.de
SUMMARY:LAG Landwirtschaft\, Forst und Ländliche Räume
DESCRIPTION:Bitte Zugangsdaten erfragen unter: lag-landwirtschaft@gruene-niedersachsen.de  \n Tagesordnung \n1. Protokoll Genehmigung\, kurze Vorstellungsrunde\n2. Wasserrechte für die Landwirtschaft: wie umgehen mit dem prognostizierten\nAnstieg des Beregnungsbedarfs? (Arbeitstitel)\n→ Input von Umweltminister Christian Meyer (angefragt): Planungen des MU\n→ Diskussion\n3. Bericht aus dem Landtag (Pascal Leddin)\n4. Sachstand LAG-Verteiler-Erneuerung und Infopapier Waldumbau;\nVerschiedenes/Themen aus dem Teilnehmerkreis \nDie Landesarbeitsgemeinschaften (LAGen) tagen öffentlich. Mitglieder und Nicht-Mitglieder\, die sich für das Thema interessieren\, sind gerne gesehen und können aktiv teilnehmen. Bei Interesse könnt ihr direkt zum Treffen gehen oder euch bei den Sprecher*innen ankündigen. \n 
URL:https://gruene-niedersachsen.de/termin/lag-landwirtschaft-forst-und-laendliche-raeume-4/
LOCATION:Online
ORGANIZER;CN="LAG Landwirtschaft%2C Forst und L%C3%A4ndliche R%C3%A4ume":MAILTO:lag-landwirtschaft@gruene-niedersachsen.de
END:VEVENT
BEGIN:VEVENT
DTSTART;TZID=Europe/Berlin:20250702T183000
DTEND;TZID=Europe/Berlin:20250702T203000
DTSTAMP:20260422T114849
CREATED:20260114T160128Z
LAST-MODIFIED:20260114T160128Z
UID:10000170-1751481000-1751488200@gruene-niedersachsen.de
SUMMARY:LAG Soziales
DESCRIPTION:Bitte Zugangsdaten erfragen: lag-soziales@gruene-niedersachsen.de \nIn der kommenden Sitzung möchten wir mit Euch die noch offen gebliebenen Themenpunkte aus der vergangenen Sitzung aufgreifen sowie aktuelle Anliegen und Herausforderungen im Bereich Arbeit und Soziales diskutieren. Wir freuen uns auf euren Input und darauf\, gemeinsam Ideen für eine sozial gerechte Zukunft zu entwickeln. \nVorläufige Tagesordnung: \n– Begrüßung\n– Vorstellung Saskia (neuer LaVo)\n– Bericht BAG Marcel\n– Vorstellung der Ergebnisse der Arbeitsgruppen Pro-Erweiterung/Umbenennung (jeweils 5 bis maximal 7 Minuten)\n– Vorstellung der Ergebnisse der Arbeitsgruppen Contra-Erweiterung/Beibehalten (jeweils 5 bis maximal 7 Minuten)\n– Sonstiges \nDie Landesarbeitsgemeinschaften (LAGen) tagen öffentlich. Mitglieder und Nicht-Mitglieder\, die sich für das Thema interessieren\, sind gerne gesehen und können aktiv teilnehmen. Bei Interesse könnt ihr direkt zum Treffen gehen oder euch bei den Sprecher*innen ankündigen.
URL:https://gruene-niedersachsen.de/termin/lag-soziales-6/
LOCATION:Online
ORGANIZER;CN="LAG Soziales":MAILTO:lag-soziales@gruene-niedersachsen.de
END:VEVENT
BEGIN:VEVENT
DTSTART;TZID=Europe/Berlin:20250625T180000
DTEND;TZID=Europe/Berlin:20250625T210000
DTSTAMP:20260422T114849
CREATED:20260114T160123Z
LAST-MODIFIED:20260114T160123Z
UID:10000128-1750874400-1750885200@gruene-niedersachsen.de
SUMMARY:Fit für den Kommunalwahlkampf 2026 - Online-Workshop für Vorstände
DESCRIPTION:Unser dreistündiger Online-Workshop richtet sich an Vorstandsmitglieder von Kreis- und Ortsverbänden\, die ihren nächsten Wahlkampf effektiv planen und viele Kandidierende gut begleiten wollen. \nWo: Online (Zugangsdaten nach Anmeldung)\nFür wen: Vorstände\, Mitglieder von Wahlkampfteams\, Kreisgeschäftsführungen bei BÜNDNIS 90/DIE GRÜNEN\nTeilnehmendenzahl: 15\nAnforderungen: Computer mit Kamera\nModeration: Elke Wohlfarth\, Mediatorin & Referentin für Parteientwicklung\, Landesverband Niedersachsen BÜNDNIS 90/DIE GRÜNEN – \nWas erwartet euch?\n• Die 5 Phasen eines erfolgreichen Wahlkampfs\n• Tipps zur Begleitung von Kandidierenden\n• Digitale Tools & Vorlagen für eure Planung\n• Austausch mit anderen Vorständen \nMeldet euch jetzt an: \nOops! Wir konnten dein Formular nicht lokalisieren.
URL:https://gruene-niedersachsen.de/termin/fit-fuer-den-kommunalwahlkampf-2026-online-workshop-fuer-vorstaende-3/
LOCATION:Online
ORGANIZER;CN="B%C3%9CNDNIS 90/DIE GR%C3%9CNEN Landesverband Niedersachsen":MAILTO:landesverband@gruene-niedersachsen.de
END:VEVENT
BEGIN:VEVENT
DTSTART;TZID=Europe/Berlin:20250623T190000
DTEND;TZID=Europe/Berlin:20250623T210000
DTSTAMP:20260422T114849
CREATED:20260114T160120Z
LAST-MODIFIED:20260114T160120Z
UID:10000104-1750705200-1750712400@gruene-niedersachsen.de
SUMMARY:LAG Gesundheit und Pflege
DESCRIPTION:Bitte Zugangsdaten erfragen: lag-gesundheit@gruene-niedersachsen.de \nTagesordnung \n1.    Einleitung \n2.    Vorstellung Saskia Weishaupt (LV) und Vorstellung „Zeitschiene Landesvorstand 2025-2027“ \n3. Ergebnisse Fragebogen (Sigrid) \n4. 10-Punkte-Plan Hausärzte (Antje) \n5. Planung einer staatlichen Medizinuni mit Semestergebühren von € 12.000 in OS (Mareen) \n6. Vorstellung weiterer Treffen 2. Halbjahr und Ankündigung von Neuwahlen für Co-Sprecher*innen und BAG-Delegierte \n7. NPsychKG  – falls wir noch Zeit haben \nDie Landesarbeitsgemeinschaften (LAGen) tagen öffentlich. Mitglieder und Nicht-Mitglieder\, die sich für das Thema interessieren\, sind gerne gesehen und können aktiv teilnehmen. Bei Interesse könnt ihr direkt zum Treffen gehen oder euch bei den Sprecher*innen ankündigen.
URL:https://gruene-niedersachsen.de/termin/lag-gesundheit-und-pflege-4/
LOCATION:Online
ORGANIZER;CN="LAG Gesundheit & Pflege":MAILTO:lag-gesundheit@gruene-niedersachsen.de
END:VEVENT
BEGIN:VEVENT
DTSTART;TZID=Europe/Berlin:20250620T200000
DTEND;TZID=Europe/Berlin:20250620T220000
DTSTAMP:20260422T114849
CREATED:20260114T160123Z
LAST-MODIFIED:20260114T160123Z
UID:10000130-1750449600-1750456800@gruene-niedersachsen.de
SUMMARY:LAG Grundeinkommen
DESCRIPTION:bitte Zugangsdaten erfragen: lag-grundeinkommen@gruene-niedersachsen.de \nVorläufige Tagesordnung \nTOP 1: Begrüßung und Formalia\nTOP 2: Input Henrik Jürgens „Vermögensverteilung aus ökonomischer Perspektive“ plus Diskussion\nTOP 3: Sonstiges \nDie Landesarbeitsgemeinschaften (LAGen) tagen öffentlich. Mitglieder und Nicht-Mitglieder\, die sich für das Thema interessieren\, sind gerne gesehen und können aktiv teilnehmen. Bei Interesse könnt ihr direkt zum Treffen gehen oder euch bei den Sprecher*innen ankündigen.
URL:https://gruene-niedersachsen.de/termin/lag-grundeinkommen-4/
LOCATION:Online
ORGANIZER;CN="LAG Grundeinkommen":MAILTO:lag-grundeinkommen@gruene-niedersachsen.de
END:VEVENT
BEGIN:VEVENT
DTSTART;TZID=Europe/Berlin:20250620T163000
DTEND;TZID=Europe/Berlin:20250620T200000
DTSTAMP:20260422T114849
CREATED:20260114T160121Z
LAST-MODIFIED:20260114T160121Z
UID:10000112-1750437000-1750449600@gruene-niedersachsen.de
SUMMARY:LAG Natur\, Umwelt und Verbraucherschutz
DESCRIPTION:bitte Zugangsdaten erfragen:  lag-natur-umwelt@gruene-niedersachsen.de \nDie Landesarbeitsgemeinschaften (LAGen) tagen öffentlich. Mitglieder und Nicht-Mitglieder\, die sich für das Thema interessieren\, sind gerne gesehen und können aktiv teilnehmen. Bei Interesse könnt ihr direkt zum Treffen gehen oder euch bei den Sprecher*innen ankündigen.
URL:https://gruene-niedersachsen.de/termin/lag-natur-umwelt-und-verbraucherschutz-4/
LOCATION:Online
ORGANIZER;CN="LAG Natur%2C Umwelt und Verbraucherschutz":MAILTO:lag-natur-umwelt@gruene-niedersachsen.de
END:VEVENT
BEGIN:VEVENT
DTSTART;TZID=Europe/Berlin:20250620T160000
DTEND;TZID=Europe/Berlin:20250620T190000
DTSTAMP:20260422T114849
CREATED:20260114T160131Z
LAST-MODIFIED:20260114T160131Z
UID:10000191-1750435200-1750446000@gruene-niedersachsen.de
SUMMARY:LAG Migration und Flucht
DESCRIPTION:bitte Zugangsdaten erfragen:  lag-migration@gruene-niedersachsen.de \nTagesordnung\n1. Begrüßung und Formalia\n2. Begrüßung Neuer Mitglieder\n3. Vorstellung unserer neuen Ansprechperson in LaVo: Mesut Ercik\n4. Bericht aus dem Bundestag\n5. Bericht aus dem Landtag\n6. Bericht und Diskussion zum VielfaltsAktionsplan des Landesverbands\n7. Bericht aus der BAG\n8. Bericht aus der AG Außenkommunikation\n9. Sonstiges \nDie Landesarbeitsgemeinschaften (LAGen) tagen öffentlich. Mitglieder und Nicht-Mitglieder\, die sich für das Thema interessieren\, sind gerne gesehen und können aktiv teilnehmen. Bei Interesse könnt ihr direkt zum Treffen gehen oder euch bei den Sprecher*innen ankündigen.
URL:https://gruene-niedersachsen.de/termin/lag-migration-und-flucht-2/
LOCATION:Online
ORGANIZER;CN="LAG Migration & Flucht":MAILTO:lag-migration@gruene-niedersachsen.de
END:VEVENT
BEGIN:VEVENT
DTSTART;TZID=Europe/Berlin:20250619T180000
DTEND;TZID=Europe/Berlin:20250619T210000
DTSTAMP:20260422T114849
CREATED:20260114T160123Z
LAST-MODIFIED:20260114T160123Z
UID:10000129-1750356000-1750366800@gruene-niedersachsen.de
SUMMARY:Fit für den Kommunalwahlkampf 2026 - Online-Workshop für Vorstände
DESCRIPTION:Unser dreistündiger Online-Workshop richtet sich an Vorstandsmitglieder von Kreis- und Ortsverbänden\, die ihren nächsten Wahlkampf effektiv planen und viele Kandidierende gut begleiten wollen. \nWo: Online (Zugangsdaten nach Anmeldung)\nFür wen: Vorstände\, Mitglieder von Wahlkampfteams\, Kreisgeschäftsführungen bei BÜNDNIS 90/DIE GRÜNEN\nTeilnehmendenzahl: 15\nAnforderungen: Computer mit Kamera\nModeration: Elke Wohlfarth\, Mediatorin & Referentin für Parteientwicklung\, Landesverband Niedersachsen BÜNDNIS 90/DIE GRÜNEN – \nWas erwartet euch?\n• Die 5 Phasen eines erfolgreichen Wahlkampfs\n• Tipps zur Begleitung von Kandidierenden\n• Digitale Tools & Vorlagen für eure Planung\n• Austausch mit anderen Vorständen \nMeldet euch jetzt an: \n\n\n                \n                        \n                            Fit für den Kommunalwahlkampf 2026 - Termin 19.06.2025\n                        \n                        LinkedInDieses Feld dient zur Validierung und sollte nicht verändert werden.Vorname(erforderlich)Nachname(erforderlich)E-Mail\n                            \n                        Ich komme aus:-- Bitte wählen --AmmerlandAurich-NordenBraunschweigCelleCloppenburgCuxhavenDelmenhorstDiepholzEmdenEmslandFrieslandGifhornGoettingenGoslarGrafschaft BentheimHameln-PyrmontHannoverHarburg-LandHeidekreis (SFA)HelmstedtHildesheimHolzmindenLeerLüchow-DannenbergLüneburgNienburgNortheim-EinbeckOldenburg-LandOldenburg-StadtOsnabrück-LandOsnabrück-StadtOsterholzPeineRotenburg/WümmeSalzgitterSchaumburgStadeUelzenVechtaVerdenWesermarschWilhelmshavenWittmundWolfenbüttelWolfsburgMeine Pronomen lauten:Einwilligung Ich stimme der Datenschutzerklärung zu.
URL:https://gruene-niedersachsen.de/termin/fit-fuer-den-kommunalwahlkampf-2026-online-workshop-fuer-vorstaende-4/
LOCATION:Online
ORGANIZER;CN="B%C3%9CNDNIS 90/DIE GR%C3%9CNEN Landesverband Niedersachsen":MAILTO:landesverband@gruene-niedersachsen.de
END:VEVENT
BEGIN:VEVENT
DTSTART;TZID=Europe/Berlin:20241029T183000
DTEND;TZID=Europe/Berlin:20241029T210000
DTSTAMP:20260422T114849
CREATED:20260114T160137Z
LAST-MODIFIED:20260114T160137Z
UID:10000241-1730226600-1730235600@gruene-niedersachsen.de
SUMMARY:Online Einführungsschulungen für Sherpa (Teil IV)
DESCRIPTION:Sherpa ist die GRÜNE Software für die Adress- und Mitgliederverwaltung\, Beitrags- und Spendenverwaltung und Finanzbuchhaltung. Im letzten Teil der Schulung werden neben der Finanzbuchhaltung die Auswertung von Rechenschaftsberichten behandelt.
URL:https://gruene-niedersachsen.de/termin/online-einfuehrungsschulungen-fuer-sherpa-teil-iv/
LOCATION:Online
ORGANIZER;CN="B%C3%9CNDNIS 90/DIE GR%C3%9CNEN Landesverband Niedersachsen":MAILTO:landesverband@gruene-niedersachsen.de
END:VEVENT
BEGIN:VEVENT
DTSTART;TZID=Europe/Berlin:20241024T183000
DTEND;TZID=Europe/Berlin:20241024T210000
DTSTAMP:20260422T114849
CREATED:20260114T160137Z
LAST-MODIFIED:20260114T160137Z
UID:10000242-1729794600-1729803600@gruene-niedersachsen.de
SUMMARY:Online Einführungsschulungen für Sherpa (Teil III)
DESCRIPTION:Sherpa ist die GRÜNE Software für die Adress- und Mitgliederverwaltung\, Beitrags- und Spendenverwaltung und Finanzbuchhaltung. Im dritten Teil der Schulung geht es um die Beitrags- und Spendenverwaltung\, Beitragseinzug\, Beitragsüberwachung und Zuwendungsbestätigungen. \n\n                \n                        \n                            Anmeldung - Sherpaschulungen\n                             \n                        \n                        Name *  Erforderlich\n                            \n                            \n                                                    Vorname\n                                                    \n                                                \n                            \n                            \n                                                            Nachname\n                                                            \n                                                        \n                            \n                        Landesverband *  ErforderlichKreisverband *  ErforderlichOrtsverbandFunktion im KV/OV *  ErforderlichTelefonE-Mail *  Erforderlich\n                            \n                        Termine *  ErforderlichBitte wählt einen oder mehrere Schulungstermine aus\, Beginn ist jeweils 18.30 Uhr\, Dauer ca. 2\,5h\n								\n								Teil 1: Termin folgt - allgemeine Bedienung\, Adressverwaltung\, Funktionen\, Schlagworte\, web-Version\n							\n								\n								Teil 2: Termin folgt - Benachrichtigungsliste\, Mitgliedsantragsverwaltung\, Besitzübertrag\, Selektionen\, Verteiler\, Rundmails\, Exporte f. Listen etc.\n							\n								\n								Teil 3: Termin folgt - Beitrags- und Spendenverwaltung\, Beitragseinzug\, Beitragsüberwachung\, Zuwendungsbestätigungen\n							\n								\n								Teil 4: Termin folgt - Finanzbuchhaltung\, Rechenschaftsbericht u.a. Auswertungen\n							Einwilligung *  Erforderlich Ich stimme der Datenschutzerklärung  zu.
URL:https://gruene-niedersachsen.de/termin/online-einfuehrungsschulungen-fuer-sherpa-teil-iii/
LOCATION:Online
ORGANIZER;CN="B%C3%9CNDNIS 90/DIE GR%C3%9CNEN Landesverband Niedersachsen":MAILTO:landesverband@gruene-niedersachsen.de
END:VEVENT
END:VCALENDAR