BEGIN:VCALENDAR
VERSION:2.0
PRODID:-//Grüne Niedersachsen - ECPv6.15.20//NONSGML v1.0//EN
CALSCALE:GREGORIAN
METHOD:PUBLISH
X-WR-CALNAME:Grüne Niedersachsen
X-ORIGINAL-URL:https://gruene-niedersachsen.de
X-WR-CALDESC:Veranstaltungen für Grüne Niedersachsen
REFRESH-INTERVAL;VALUE=DURATION:PT1H
X-Robots-Tag:noindex
X-PUBLISHED-TTL:PT1H
BEGIN:VTIMEZONE
TZID:Europe/Berlin
BEGIN:DAYLIGHT
TZOFFSETFROM:+0100
TZOFFSETTO:+0200
TZNAME:CEST
DTSTART:20250330T010000
END:DAYLIGHT
BEGIN:STANDARD
TZOFFSETFROM:+0200
TZOFFSETTO:+0100
TZNAME:CET
DTSTART:20251026T010000
END:STANDARD
BEGIN:DAYLIGHT
TZOFFSETFROM:+0100
TZOFFSETTO:+0200
TZNAME:CEST
DTSTART:20260329T010000
END:DAYLIGHT
BEGIN:STANDARD
TZOFFSETFROM:+0200
TZOFFSETTO:+0100
TZNAME:CET
DTSTART:20261025T010000
END:STANDARD
BEGIN:DAYLIGHT
TZOFFSETFROM:+0100
TZOFFSETTO:+0200
TZNAME:CEST
DTSTART:20270328T010000
END:DAYLIGHT
BEGIN:STANDARD
TZOFFSETFROM:+0200
TZOFFSETTO:+0100
TZNAME:CET
DTSTART:20271031T010000
END:STANDARD
END:VTIMEZONE
BEGIN:VEVENT
DTSTART;TZID=Europe/Berlin:20260508T190000
DTEND;TZID=Europe/Berlin:20260508T210000
DTSTAMP:20260421T162615
CREATED:20260317T111745Z
LAST-MODIFIED:20260317T111745Z
UID:10001375-1778266800-1778274000@gruene-niedersachsen.de
SUMMARY:LAG Wissenschaft\, Hochschule und Technologie
DESCRIPTION:bitte Zugangsdaten erfragen: lag-hochschule@gruene-niedersachsen.de \nTagesordnung \nDie Landesarbeitsgemeinschaften (LAGen) tagen öffentlich. Mitglieder und Nicht-Mitglieder\, die sich für das Thema interessieren\, sind gerne gesehen und können aktiv teilnehmen. Bei Interesse könnt ihr direkt zum Treffen gehen oder euch bei den Sprecher*innen ankündigen.
URL:https://gruene-niedersachsen.de/termin/lag-wissenschaft-hochschule-und-technologie-19/
LOCATION:Online
CATEGORIES:LAG Wissenschaft, Hochschule und Technologie
ORGANIZER;CN="LAG Wissenschaft%2C Hochschule und Technologie":MAILTO:lag-hochschule@gruene-niedersachsen.de
END:VEVENT
BEGIN:VEVENT
DTSTART;TZID=Europe/Berlin:20260611T190000
DTEND;TZID=Europe/Berlin:20260611T210000
DTSTAMP:20260421T162615
CREATED:20260123T104926Z
LAST-MODIFIED:20260123T104926Z
UID:10001340-1781204400-1781211600@gruene-niedersachsen.de
SUMMARY:LAG Tierschutzpolitik
DESCRIPTION:bitte Zugangsdaten erfragen: lag-tierschutzpolitik@gruene-niedersachsen.de \nDie Landesarbeitsgemeinschaften (LAGen) tagen öffentlich. Mitglieder und Nicht-Mitglieder\, die sich für das Thema interessieren\, sind gerne gesehen und können aktiv teilnehmen. Bei Interesse könnt ihr direkt zum Treffen gehen oder euch bei den Sprecher*innen ankündigen.
URL:https://gruene-niedersachsen.de/termin/lag-tierschutzpolitik-35/
LOCATION:Online
ORGANIZER;CN="LAG Tierschutzpolitik":MAILTO:lag-tierschutzpolitik@gruene-niedersachsen.de
END:VEVENT
BEGIN:VEVENT
DTSTART;TZID=Europe/Berlin:20260612T153000
DTEND;TZID=Europe/Berlin:20260612T190000
DTSTAMP:20260421T162615
CREATED:20260114T160110Z
LAST-MODIFIED:20260205T101418Z
UID:10000029-1781278200-1781290800@gruene-niedersachsen.de
SUMMARY:LAG Schule
DESCRIPTION:bitte Zugangsdaten erfragen: lag-schule@gruene-niedersachsen.de \n  \nDie Landesarbeitsgemeinschaften (LAGen) tagen öffentlich. Mitglieder und Nicht-Mitglieder\, die sich für das Thema interessieren\, sind gerne gesehen und können aktiv teilnehmen. Bei Interesse könnt ihr direkt zum Treffen gehen oder euch bei den Sprecher*innen ankündigen.
URL:https://gruene-niedersachsen.de/termin/lag-schule-4/
LOCATION:Online
CATEGORIES:LAG Schule
ORGANIZER;CN="LAG Schule":MAILTO:lag-schule@gruene-niedersachsen.de
END:VEVENT
BEGIN:VEVENT
DTSTART;TZID=Europe/Berlin:20260615T190000
DTEND;TZID=Europe/Berlin:20260615T210000
DTSTAMP:20260421T162615
CREATED:20260126T145211Z
LAST-MODIFIED:20260126T145211Z
UID:10001345-1781550000-1781557200@gruene-niedersachsen.de
SUMMARY:LAG Grundeinkommen
DESCRIPTION:bitte Zugangsdaten erfragen: lag-grundeinkommen@gruene-niedersachsen.de \nDie Landesarbeitsgemeinschaften (LAGen) tagen öffentlich. Mitglieder und Nicht-Mitglieder\, die sich für das Thema interessieren\, sind gerne gesehen und können aktiv teilnehmen. Bei Interesse könnt ihr direkt zum Treffen gehen oder euch bei den Sprecher*innen ankündigen.
URL:https://gruene-niedersachsen.de/termin/lag-grundeinkommen-29/
LOCATION:Online
ORGANIZER;CN="LAG Grundeinkommen":MAILTO:lag-grundeinkommen@gruene-niedersachsen.de
END:VEVENT
BEGIN:VEVENT
DTSTART;TZID=Europe/Berlin:20260622T190000
DTEND;TZID=Europe/Berlin:20260622T210000
DTSTAMP:20260421T162615
CREATED:20260317T111815Z
LAST-MODIFIED:20260317T111815Z
UID:10001376-1782154800-1782162000@gruene-niedersachsen.de
SUMMARY:LAG Wissenschaft\, Hochschule und Technologie
DESCRIPTION:bitte Zugangsdaten erfragen: lag-hochschule@gruene-niedersachsen.de \nTagesordnung \nDie Landesarbeitsgemeinschaften (LAGen) tagen öffentlich. Mitglieder und Nicht-Mitglieder\, die sich für das Thema interessieren\, sind gerne gesehen und können aktiv teilnehmen. Bei Interesse könnt ihr direkt zum Treffen gehen oder euch bei den Sprecher*innen ankündigen.
URL:https://gruene-niedersachsen.de/termin/lag-wissenschaft-hochschule-und-technologie-20/
LOCATION:Online
CATEGORIES:LAG Wissenschaft, Hochschule und Technologie
ORGANIZER;CN="LAG Wissenschaft%2C Hochschule und Technologie":MAILTO:lag-hochschule@gruene-niedersachsen.de
END:VEVENT
BEGIN:VEVENT
DTSTART;TZID=Europe/Berlin:20260814T170000
DTEND;TZID=Europe/Berlin:20260814T183000
DTSTAMP:20260421T162615
CREATED:20260220T105123Z
LAST-MODIFIED:20260220T105123Z
UID:10001365-1786726800-1786732200@gruene-niedersachsen.de
SUMMARY:LAG Planen\, Bauen und Wohnen
DESCRIPTION:Bitte Zugangsdaten erfragen: lag-bauen-wohnen@gruene-niedersachsen.de \nDie Landesarbeitsgemeinschaften (LAGen) tagen öffentlich. Mitglieder und Nicht-Mitglieder\, die sich für das Thema interessieren\, sind gerne gesehen und können aktiv teilnehmen. Bei Interesse könnt ihr direkt zum Treffen gehen oder euch bei den Sprecher*innen ankündigen. \n  \n 
URL:https://gruene-niedersachsen.de/termin/lag-planen-bauen-und-wohnen-12/
LOCATION:Online
CATEGORIES:LAG Planen, Bauen und Wohnen
ORGANIZER;CN="LAG Planen%2C Bauen und Wohnen":MAILTO:lag-bauen-wohnen@gruene-niedersachsen.de
END:VEVENT
BEGIN:VEVENT
DTSTART;TZID=Europe/Berlin:20260817T190000
DTEND;TZID=Europe/Berlin:20260817T203000
DTSTAMP:20260421T162615
CREATED:20260114T160111Z
LAST-MODIFIED:20260225T104730Z
UID:10000038-1786993200-1786998600@gruene-niedersachsen.de
SUMMARY:Grafikdesign und Gestaltung für Social Media
DESCRIPTION:Design und Gestaltung gelten oft als Geschmackssache. Doch es gibt es ein paar klare Regeln\, die nicht durch Zufall entstanden sind\, sondern sich an unserer Wahrnehmung und deren Gewohnheiten orientieren. So ist es wie bei der verbalen auch bei der visuellen Kommunikation wichtig\, die passende Design-Sprache zu beherrschen. \nIhr erhaltet in diesem Gestaltungs-Seminar in kompakter Form Grundkenntnisse der Farb- und Kompositionslehre\, Typografie und des Corporate Designs für Facebook-\, Instagram- und Mastodon-Sharepics und einen kurzen Einblick zu Reels. \nReferentin: Jenni Krupke (Grafikerin\, Social Media\, Online-Redakteurin) \nBei Fragen wendet euch gern an jennifer.krupke@gruene-niedersachsen.de \nBei Interesse melde dich bitte über das folgende Formular an:  \n\n\n                \n                        \n                            Anmeldung - Grafikdesign und Gestaltung bei Social Media-Sharepics (17.08.2026)\n                             \n                        \n                        EmailDieses Feld dient zur Validierung und sollte nicht verändert werden.Vorname(erforderlich)Nachname(erforderlich)E-Mail(erforderlich)\n                            \n                        Kreisverband-- Bitte wählen --AmmerlandAurich-NordenBraunschweigCelleCloppenburgCuxhavenDelmenhorstDiepholzEmdenEmslandFrieslandGifhornGoettingenGoslarGrafschaft BentheimHameln-PyrmontHannoverHarburg-LandHeidekreis (SFA)HelmstedtHildesheimHolzmindenLeerLüchow-DannenbergLüneburgNienburgNortheim-EinbeckOldenburg-LandOldenburg-StadtOsnabrück-LandOsnabrück-StadtOsterholzPeineRotenburg/WümmeSalzgitterSchaumburgStadeUelzenVechtaVerdenWesermarschWilhelmshavenWittmundWolfenbüttelWolfsburgEinwilligung Ich stimme der Datenschutzerklärung  zu.
URL:https://gruene-niedersachsen.de/termin/grafikdesign-und-gestaltung-von-social-media-sharepics/
LOCATION:Online
ORGANIZER;CN="B%C3%9CNDNIS 90/DIE GR%C3%9CNEN Landesverband Niedersachsen":MAILTO:landesverband@gruene-niedersachsen.de
END:VEVENT
BEGIN:VEVENT
DTSTART;TZID=Europe/Berlin:20260818T190000
DTEND;TZID=Europe/Berlin:20260818T210000
DTSTAMP:20260421T162615
CREATED:20260123T105000Z
LAST-MODIFIED:20260205T100213Z
UID:10001341-1787079600-1787086800@gruene-niedersachsen.de
SUMMARY:LAG Tierschutzpolitik
DESCRIPTION:bitte Zugangsdaten erfragen: lag-tierschutzpolitik@gruene-niedersachsen.de \nDie Landesarbeitsgemeinschaften (LAGen) tagen öffentlich. Mitglieder und Nicht-Mitglieder\, die sich für das Thema interessieren\, sind gerne gesehen und können aktiv teilnehmen. Bei Interesse könnt ihr direkt zum Treffen gehen oder euch bei den Sprecher*innen ankündigen.
URL:https://gruene-niedersachsen.de/termin/lag-tierschutzpolitik-36/
LOCATION:Online
CATEGORIES:LAG Tierschutzpolitik
ORGANIZER;CN="LAG Tierschutzpolitik":MAILTO:lag-tierschutzpolitik@gruene-niedersachsen.de
END:VEVENT
BEGIN:VEVENT
DTSTART;TZID=Europe/Berlin:20260824T190000
DTEND;TZID=Europe/Berlin:20260824T203000
DTSTAMP:20260421T162615
CREATED:20260225T104252Z
LAST-MODIFIED:20260225T110147Z
UID:10001368-1787598000-1787603400@gruene-niedersachsen.de
SUMMARY:Einfach GRÜN schreiben
DESCRIPTION:Grüne Botschaften auf den Punkt bringen? In diesem Webinar zeigen wir\, wie du Grüne Politik so kommunizieren kannst\, dass sie für alle verständlich ist.\nAnhand von Beispielen und einfachen Tipps erfährst du\, wie du Texte so schreibst\, dass möglichst viele Menschen sie gerne lesen und gut verstehen können – ob in den Sozialen Medien\, auf der Website oder in einer Pressemitteilung. \nFür wen? Alle Mitglieder\, die Texte für uns GRÜNE schreiben. \nReferentin: Jenni Krupke (Grafikerin\, Social Media\, Online-Redakteurin) \nBei Fragen wendet euch gern an jennifer.krupke@gruene-niedersachsen.de \nBei Interesse melde dich bitte über das folgende Formular an:  \n\n                \n                        \n                            Anmeldung - Webinar "Einfach GRÜN schreiben" (24.08.2026)\n                             \n                        \n                        CompanyDieses Feld dient zur Validierung und sollte nicht verändert werden.Vorname(erforderlich)Nachname(erforderlich)E-Mail(erforderlich)\n                            \n                        Kreisverband-- Bitte wählen --AmmerlandAurich-NordenBraunschweigCelleCloppenburgCuxhavenDelmenhorstDiepholzEmdenEmslandFrieslandGifhornGoettingenGoslarGrafschaft BentheimHameln-PyrmontHannoverHarburg-LandHeidekreis (SFA)HelmstedtHildesheimHolzmindenLeerLüchow-DannenbergLüneburgNienburgNortheim-EinbeckOldenburg-LandOldenburg-StadtOsnabrück-LandOsnabrück-StadtOsterholzPeineRotenburg/WümmeSalzgitterSchaumburgStadeUelzenVechtaVerdenWesermarschWilhelmshavenWittmundWolfenbüttelWolfsburgEinwilligung Ich stimme der Datenschutzerklärung  zu.
URL:https://gruene-niedersachsen.de/termin/einfach-gruen-schreiben/
LOCATION:Online
ORGANIZER;CN="B%C3%9CNDNIS 90/DIE GR%C3%9CNEN Landesverband Niedersachsen":MAILTO:landesverband@gruene-niedersachsen.de
END:VEVENT
BEGIN:VEVENT
DTSTART;TZID=Europe/Berlin:20260825T190000
DTEND;TZID=Europe/Berlin:20260825T210000
DTSTAMP:20260421T162615
CREATED:20260317T111842Z
LAST-MODIFIED:20260317T111842Z
UID:10001377-1787684400-1787691600@gruene-niedersachsen.de
SUMMARY:LAG Wissenschaft\, Hochschule und Technologie
DESCRIPTION:bitte Zugangsdaten erfragen: lag-hochschule@gruene-niedersachsen.de \nTagesordnung \nDie Landesarbeitsgemeinschaften (LAGen) tagen öffentlich. Mitglieder und Nicht-Mitglieder\, die sich für das Thema interessieren\, sind gerne gesehen und können aktiv teilnehmen. Bei Interesse könnt ihr direkt zum Treffen gehen oder euch bei den Sprecher*innen ankündigen.
URL:https://gruene-niedersachsen.de/termin/lag-wissenschaft-hochschule-und-technologie-21/
LOCATION:Online
CATEGORIES:LAG Wissenschaft, Hochschule und Technologie
ORGANIZER;CN="LAG Wissenschaft%2C Hochschule und Technologie":MAILTO:lag-hochschule@gruene-niedersachsen.de
END:VEVENT
BEGIN:VEVENT
DTSTART;TZID=Europe/Berlin:20260925T170000
DTEND;TZID=Europe/Berlin:20260925T183000
DTSTAMP:20260421T162615
CREATED:20260220T105201Z
LAST-MODIFIED:20260220T105201Z
UID:10001366-1790355600-1790361000@gruene-niedersachsen.de
SUMMARY:LAG Planen\, Bauen und Wohnen
DESCRIPTION:Bitte Zugangsdaten erfragen: lag-bauen-wohnen@gruene-niedersachsen.de \nDie Landesarbeitsgemeinschaften (LAGen) tagen öffentlich. Mitglieder und Nicht-Mitglieder\, die sich für das Thema interessieren\, sind gerne gesehen und können aktiv teilnehmen. Bei Interesse könnt ihr direkt zum Treffen gehen oder euch bei den Sprecher*innen ankündigen. \n  \n 
URL:https://gruene-niedersachsen.de/termin/lag-planen-bauen-und-wohnen-13/
LOCATION:Online
CATEGORIES:LAG Planen, Bauen und Wohnen
ORGANIZER;CN="LAG Planen%2C Bauen und Wohnen":MAILTO:lag-bauen-wohnen@gruene-niedersachsen.de
END:VEVENT
BEGIN:VEVENT
DTSTART;TZID=Europe/Berlin:20260925T190000
DTEND;TZID=Europe/Berlin:20260925T210000
DTSTAMP:20260421T162615
CREATED:20260306T082509Z
LAST-MODIFIED:20260306T082509Z
UID:10001373-1790362800-1790370000@gruene-niedersachsen.de
SUMMARY:LAG Häfen – Schifffahrt – Küstenschutz
DESCRIPTION:Bitte Zugangsdaten erfragen: lag-haefen@gruene-niedersachsen.de \nDie Landesarbeitsgemeinschaften (LAGen) tagen öffentlich. Mitglieder und Nicht-Mitglieder\, die sich für das Thema interessieren\, sind gerne gesehen und können aktiv teilnehmen. Bei Interesse könnt ihr direkt zum Treffen gehen oder euch bei den Sprecher*innen ankündigen.
URL:https://gruene-niedersachsen.de/termin/lag-haefen-schifffahrt-kuestenschutz-10/
LOCATION:Online
CATEGORIES:LAG Häfen, Schiffahrt und Küstenschutz
ORGANIZER;CN="LAG H%C3%A4fen & Schifffahrt":MAILTO:lag-haefen@gruene-niedersachsen.de
END:VEVENT
BEGIN:VEVENT
DTSTART;TZID=Europe/Berlin:20261006T190000
DTEND;TZID=Europe/Berlin:20261006T210000
DTSTAMP:20260421T162615
CREATED:20260123T105030Z
LAST-MODIFIED:20260123T105030Z
UID:10001342-1791313200-1791320400@gruene-niedersachsen.de
SUMMARY:LAG Tierschutzpolitik
DESCRIPTION:bitte Zugangsdaten erfragen: lag-tierschutzpolitik@gruene-niedersachsen.de \nDie Landesarbeitsgemeinschaften (LAGen) tagen öffentlich. Mitglieder und Nicht-Mitglieder\, die sich für das Thema interessieren\, sind gerne gesehen und können aktiv teilnehmen. Bei Interesse könnt ihr direkt zum Treffen gehen oder euch bei den Sprecher*innen ankündigen.
URL:https://gruene-niedersachsen.de/termin/lag-tierschutzpolitik-37/
LOCATION:Online
ORGANIZER;CN="LAG Tierschutzpolitik":MAILTO:lag-tierschutzpolitik@gruene-niedersachsen.de
END:VEVENT
BEGIN:VEVENT
DTSTART;TZID=Europe/Berlin:20261007T180000
DTEND;TZID=Europe/Berlin:20261007T203000
DTSTAMP:20260421T162615
CREATED:20260320T094214Z
LAST-MODIFIED:20260320T094214Z
UID:10001383-1791396000-1791405000@gruene-niedersachsen.de
SUMMARY:LAG Soziales
DESCRIPTION:bitte Zugangsdaten erfragen: lag-soziales@gruene-niedersachsen.de \n  \nDie Landesarbeitsgemeinschaften (LAGen) tagen öffentlich. Mitglieder und Nicht-Mitglieder\, die sich für das Thema interessieren\, sind gerne gesehen und können aktiv teilnehmen. Bei Interesse könnt ihr direkt zum Treffen gehen oder euch bei den Sprecher*innen ankündigen.
URL:https://gruene-niedersachsen.de/termin/lag-soziales-13/
LOCATION:Online
CATEGORIES:LAG Soziales
ORGANIZER;CN="LAG Soziales":MAILTO:lag-soziales@gruene-niedersachsen.de
END:VEVENT
BEGIN:VEVENT
DTSTART;TZID=Europe/Berlin:20261024T190000
DTEND;TZID=Europe/Berlin:20261024T210000
DTSTAMP:20260421T162615
CREATED:20260317T111921Z
LAST-MODIFIED:20260317T111921Z
UID:10001378-1792868400-1792875600@gruene-niedersachsen.de
SUMMARY:LAG Wissenschaft\, Hochschule und Technologie
DESCRIPTION:bitte Zugangsdaten erfragen: lag-hochschule@gruene-niedersachsen.de \nTagesordnung \nDie Landesarbeitsgemeinschaften (LAGen) tagen öffentlich. Mitglieder und Nicht-Mitglieder\, die sich für das Thema interessieren\, sind gerne gesehen und können aktiv teilnehmen. Bei Interesse könnt ihr direkt zum Treffen gehen oder euch bei den Sprecher*innen ankündigen.
URL:https://gruene-niedersachsen.de/termin/lag-wissenschaft-hochschule-und-technologie-22/
LOCATION:Online
CATEGORIES:LAG Wissenschaft, Hochschule und Technologie
ORGANIZER;CN="LAG Wissenschaft%2C Hochschule und Technologie":MAILTO:lag-hochschule@gruene-niedersachsen.de
END:VEVENT
BEGIN:VEVENT
DTSTART;TZID=Europe/Berlin:20261111T180000
DTEND;TZID=Europe/Berlin:20261111T203000
DTSTAMP:20260421T162615
CREATED:20260320T094232Z
LAST-MODIFIED:20260320T094232Z
UID:10001384-1794420000-1794429000@gruene-niedersachsen.de
SUMMARY:LAG Soziales
DESCRIPTION:bitte Zugangsdaten erfragen: lag-soziales@gruene-niedersachsen.de \n  \nDie Landesarbeitsgemeinschaften (LAGen) tagen öffentlich. Mitglieder und Nicht-Mitglieder\, die sich für das Thema interessieren\, sind gerne gesehen und können aktiv teilnehmen. Bei Interesse könnt ihr direkt zum Treffen gehen oder euch bei den Sprecher*innen ankündigen.
URL:https://gruene-niedersachsen.de/termin/lag-soziales-14/
LOCATION:Online
CATEGORIES:LAG Soziales
ORGANIZER;CN="LAG Soziales":MAILTO:lag-soziales@gruene-niedersachsen.de
END:VEVENT
BEGIN:VEVENT
DTSTART;TZID=Europe/Berlin:20261120T170000
DTEND;TZID=Europe/Berlin:20261120T183000
DTSTAMP:20260421T162615
CREATED:20260220T105307Z
LAST-MODIFIED:20260421T125148Z
UID:10001367-1795194000-1795199400@gruene-niedersachsen.de
SUMMARY:LAG Planen\, Bauen und Wohnen
DESCRIPTION:Bitte Zugangsdaten erfragen: lag-bauen-wohnen@gruene-niedersachsen.de \nDie Landesarbeitsgemeinschaften (LAGen) tagen öffentlich. Mitglieder und Nicht-Mitglieder\, die sich für das Thema interessieren\, sind gerne gesehen und können aktiv teilnehmen. Bei Interesse könnt ihr direkt zum Treffen gehen oder euch bei den Sprecher*innen ankündigen. \n  \n 
URL:https://gruene-niedersachsen.de/termin/lag-planen-bauen-und-wohnen-14/
LOCATION:Online
CATEGORIES:LAG Planen, Bauen und Wohnen
ORGANIZER;CN="LAG Planen%2C Bauen und Wohnen":MAILTO:lag-bauen-wohnen@gruene-niedersachsen.de
END:VEVENT
BEGIN:VEVENT
DTSTART;TZID=Europe/Berlin:20261127T190000
DTEND;TZID=Europe/Berlin:20261127T210000
DTSTAMP:20260421T162615
CREATED:20260306T082535Z
LAST-MODIFIED:20260306T083114Z
UID:10001374-1795806000-1795813200@gruene-niedersachsen.de
SUMMARY:LAG Häfen – Schifffahrt – Küstenschutz
DESCRIPTION:Bitte Zugangsdaten erfragen: lag-haefen@gruene-niedersachsen.de \nDie Landesarbeitsgemeinschaften (LAGen) tagen öffentlich. Mitglieder und Nicht-Mitglieder\, die sich für das Thema interessieren\, sind gerne gesehen und können aktiv teilnehmen. Bei Interesse könnt ihr direkt zum Treffen gehen oder euch bei den Sprecher*innen ankündigen.
URL:https://gruene-niedersachsen.de/termin/lag-haefen-schifffahrt-kuestenschutz-11/
LOCATION:Online
CATEGORIES:LAG Häfen, Schiffahrt und Küstenschutz
ORGANIZER;CN="LAG H%C3%A4fen & Schifffahrt":MAILTO:lag-haefen@gruene-niedersachsen.de
END:VEVENT
BEGIN:VEVENT
DTSTART;TZID=Europe/Berlin:20261130T190000
DTEND;TZID=Europe/Berlin:20261130T210000
DTSTAMP:20260421T162615
CREATED:20260317T111943Z
LAST-MODIFIED:20260317T111943Z
UID:10001379-1796065200-1796072400@gruene-niedersachsen.de
SUMMARY:LAG Wissenschaft\, Hochschule und Technologie
DESCRIPTION:bitte Zugangsdaten erfragen: lag-hochschule@gruene-niedersachsen.de \nTagesordnung \nDie Landesarbeitsgemeinschaften (LAGen) tagen öffentlich. Mitglieder und Nicht-Mitglieder\, die sich für das Thema interessieren\, sind gerne gesehen und können aktiv teilnehmen. Bei Interesse könnt ihr direkt zum Treffen gehen oder euch bei den Sprecher*innen ankündigen.
URL:https://gruene-niedersachsen.de/termin/lag-wissenschaft-hochschule-und-technologie-23/
LOCATION:Online
CATEGORIES:LAG Wissenschaft, Hochschule und Technologie
ORGANIZER;CN="LAG Wissenschaft%2C Hochschule und Technologie":MAILTO:lag-hochschule@gruene-niedersachsen.de
END:VEVENT
BEGIN:VEVENT
DTSTART;TZID=Europe/Berlin:20261214T190000
DTEND;TZID=Europe/Berlin:20261214T210000
DTSTAMP:20260421T162615
CREATED:20260126T145601Z
LAST-MODIFIED:20260126T145601Z
UID:10001335-1797274800-1797282000@gruene-niedersachsen.de
SUMMARY:LAG Grundeinkommen
DESCRIPTION:bitte Zugangsdaten erfragen: lag-grundeinkommen@gruene-niedersachsen.de \n  \nDie Landesarbeitsgemeinschaften (LAGen) tagen öffentlich. Mitglieder und Nicht-Mitglieder\, die sich für das Thema interessieren\, sind gerne gesehen und können aktiv teilnehmen. Bei Interesse könnt ihr direkt zum Treffen gehen oder euch bei den Sprecher*innen ankündigen.
URL:https://gruene-niedersachsen.de/termin/lag-grundeinkommen-31/
LOCATION:Online
ORGANIZER;CN="LAG Grundeinkommen":MAILTO:lag-grundeinkommen@gruene-niedersachsen.de
END:VEVENT
BEGIN:VEVENT
DTSTART;TZID=Europe/Berlin:20261218T180000
DTEND;TZID=Europe/Berlin:20261218T203000
DTSTAMP:20260421T162615
CREATED:20260320T094252Z
LAST-MODIFIED:20260320T094252Z
UID:10001385-1797616800-1797625800@gruene-niedersachsen.de
SUMMARY:LAG Soziales
DESCRIPTION:bitte Zugangsdaten erfragen: lag-soziales@gruene-niedersachsen.de \n  \nDie Landesarbeitsgemeinschaften (LAGen) tagen öffentlich. Mitglieder und Nicht-Mitglieder\, die sich für das Thema interessieren\, sind gerne gesehen und können aktiv teilnehmen. Bei Interesse könnt ihr direkt zum Treffen gehen oder euch bei den Sprecher*innen ankündigen.
URL:https://gruene-niedersachsen.de/termin/lag-soziales-15/
LOCATION:Online
CATEGORIES:LAG Soziales
ORGANIZER;CN="LAG Soziales":MAILTO:lag-soziales@gruene-niedersachsen.de
END:VEVENT
END:VCALENDAR