BEGIN:VCALENDAR
VERSION:2.0
PRODID:-//Grüne Niedersachsen - ECPv6.15.20//NONSGML v1.0//EN
CALSCALE:GREGORIAN
METHOD:PUBLISH
X-WR-CALNAME:Grüne Niedersachsen
X-ORIGINAL-URL:https://gruene-niedersachsen.de
X-WR-CALDESC:Veranstaltungen für Grüne Niedersachsen
REFRESH-INTERVAL;VALUE=DURATION:PT1H
X-Robots-Tag:noindex
X-PUBLISHED-TTL:PT1H
BEGIN:VTIMEZONE
TZID:Europe/Berlin
BEGIN:DAYLIGHT
TZOFFSETFROM:+0100
TZOFFSETTO:+0200
TZNAME:CEST
DTSTART:20250330T010000
END:DAYLIGHT
BEGIN:STANDARD
TZOFFSETFROM:+0200
TZOFFSETTO:+0100
TZNAME:CET
DTSTART:20251026T010000
END:STANDARD
BEGIN:DAYLIGHT
TZOFFSETFROM:+0100
TZOFFSETTO:+0200
TZNAME:CEST
DTSTART:20260329T010000
END:DAYLIGHT
BEGIN:STANDARD
TZOFFSETFROM:+0200
TZOFFSETTO:+0100
TZNAME:CET
DTSTART:20261025T010000
END:STANDARD
BEGIN:DAYLIGHT
TZOFFSETFROM:+0100
TZOFFSETTO:+0200
TZNAME:CEST
DTSTART:20270328T010000
END:DAYLIGHT
BEGIN:STANDARD
TZOFFSETFROM:+0200
TZOFFSETTO:+0100
TZNAME:CET
DTSTART:20271031T010000
END:STANDARD
END:VTIMEZONE
BEGIN:VEVENT
DTSTART;TZID=Europe/Berlin:20260429T180000
DTEND;TZID=Europe/Berlin:20260429T200000
DTSTAMP:20260423T164902
CREATED:20260318T131926Z
LAST-MODIFIED:20260413T101811Z
UID:10001380-1777485600-1777492800@gruene-niedersachsen.de
SUMMARY:LAG Weltanschauung und Staat
DESCRIPTION:Bei digitaler Teilnahme bitte Zugangsdaten erfragen: lag-weltanschauung@gruene-niedersachsen.de \nTagesordnung \n1. Input Referat Ute Quednow zu Diakonie/Kirche und Nachhaltigkeit mit anschließenden Fragen und Diskussion\n2. Bericht von der Tagung der BAG Religionen in Berlin\n3. Verschiedenes \nDie Landesarbeitsgemeinschaften (LAGen) tagen öffentlich. Mitglieder und Nicht-Mitglieder\, die sich für das Thema interessieren\, sind gerne gesehen und können aktiv teilnehmen. Bei Interesse könnt ihr direkt zum Treffen gehen oder euch bei den Sprecher*innen ankündigen.
URL:https://gruene-niedersachsen.de/termin/lag-weltanschauung-und-staat-4/
LOCATION:Grünes Zentrum\, Senior-Blumenberg-Gang 1\, Hannover\, 30159
CATEGORIES:LAG Weltanschauung und Staat
ORGANIZER;CN="LAG Weltanschauung & Staat":MAILTO:lag-weltanschauung@gruene-niedersachsen.de
END:VEVENT
END:VCALENDAR