BEGIN:VCALENDAR
VERSION:2.0
PRODID:-//Grüne Niedersachsen - ECPv6.15.20//NONSGML v1.0//EN
CALSCALE:GREGORIAN
METHOD:PUBLISH
X-WR-CALNAME:Grüne Niedersachsen
X-ORIGINAL-URL:https://gruene-niedersachsen.de
X-WR-CALDESC:Veranstaltungen für Grüne Niedersachsen
REFRESH-INTERVAL;VALUE=DURATION:PT1H
X-Robots-Tag:noindex
X-PUBLISHED-TTL:PT1H
BEGIN:VTIMEZONE
TZID:Europe/Berlin
BEGIN:DAYLIGHT
TZOFFSETFROM:+0100
TZOFFSETTO:+0200
TZNAME:CEST
DTSTART:20250330T010000
END:DAYLIGHT
BEGIN:STANDARD
TZOFFSETFROM:+0200
TZOFFSETTO:+0100
TZNAME:CET
DTSTART:20251026T010000
END:STANDARD
BEGIN:DAYLIGHT
TZOFFSETFROM:+0100
TZOFFSETTO:+0200
TZNAME:CEST
DTSTART:20260329T010000
END:DAYLIGHT
BEGIN:STANDARD
TZOFFSETFROM:+0200
TZOFFSETTO:+0100
TZNAME:CET
DTSTART:20261025T010000
END:STANDARD
BEGIN:DAYLIGHT
TZOFFSETFROM:+0100
TZOFFSETTO:+0200
TZNAME:CEST
DTSTART:20270328T010000
END:DAYLIGHT
BEGIN:STANDARD
TZOFFSETFROM:+0200
TZOFFSETTO:+0100
TZNAME:CET
DTSTART:20271031T010000
END:STANDARD
END:VTIMEZONE
BEGIN:VEVENT
DTSTART;TZID=Europe/Berlin:20260611T190000
DTEND;TZID=Europe/Berlin:20260611T210000
DTSTAMP:20260423T124810
CREATED:20260123T104926Z
LAST-MODIFIED:20260123T104926Z
UID:10001340-1781204400-1781211600@gruene-niedersachsen.de
SUMMARY:LAG Tierschutzpolitik
DESCRIPTION:bitte Zugangsdaten erfragen: lag-tierschutzpolitik@gruene-niedersachsen.de \nDie Landesarbeitsgemeinschaften (LAGen) tagen öffentlich. Mitglieder und Nicht-Mitglieder\, die sich für das Thema interessieren\, sind gerne gesehen und können aktiv teilnehmen. Bei Interesse könnt ihr direkt zum Treffen gehen oder euch bei den Sprecher*innen ankündigen.
URL:https://gruene-niedersachsen.de/termin/lag-tierschutzpolitik-35/
LOCATION:Online
ORGANIZER;CN="LAG Tierschutzpolitik":MAILTO:lag-tierschutzpolitik@gruene-niedersachsen.de
END:VEVENT
BEGIN:VEVENT
DTSTART;TZID=Europe/Berlin:20260818T190000
DTEND;TZID=Europe/Berlin:20260818T210000
DTSTAMP:20260423T124810
CREATED:20260123T105000Z
LAST-MODIFIED:20260205T100213Z
UID:10001341-1787079600-1787086800@gruene-niedersachsen.de
SUMMARY:LAG Tierschutzpolitik
DESCRIPTION:bitte Zugangsdaten erfragen: lag-tierschutzpolitik@gruene-niedersachsen.de \nDie Landesarbeitsgemeinschaften (LAGen) tagen öffentlich. Mitglieder und Nicht-Mitglieder\, die sich für das Thema interessieren\, sind gerne gesehen und können aktiv teilnehmen. Bei Interesse könnt ihr direkt zum Treffen gehen oder euch bei den Sprecher*innen ankündigen.
URL:https://gruene-niedersachsen.de/termin/lag-tierschutzpolitik-36/
LOCATION:Online
CATEGORIES:LAG Tierschutzpolitik
ORGANIZER;CN="LAG Tierschutzpolitik":MAILTO:lag-tierschutzpolitik@gruene-niedersachsen.de
END:VEVENT
BEGIN:VEVENT
DTSTART;TZID=Europe/Berlin:20261006T190000
DTEND;TZID=Europe/Berlin:20261006T210000
DTSTAMP:20260423T124810
CREATED:20260123T105030Z
LAST-MODIFIED:20260123T105030Z
UID:10001342-1791313200-1791320400@gruene-niedersachsen.de
SUMMARY:LAG Tierschutzpolitik
DESCRIPTION:bitte Zugangsdaten erfragen: lag-tierschutzpolitik@gruene-niedersachsen.de \nDie Landesarbeitsgemeinschaften (LAGen) tagen öffentlich. Mitglieder und Nicht-Mitglieder\, die sich für das Thema interessieren\, sind gerne gesehen und können aktiv teilnehmen. Bei Interesse könnt ihr direkt zum Treffen gehen oder euch bei den Sprecher*innen ankündigen.
URL:https://gruene-niedersachsen.de/termin/lag-tierschutzpolitik-37/
LOCATION:Online
ORGANIZER;CN="LAG Tierschutzpolitik":MAILTO:lag-tierschutzpolitik@gruene-niedersachsen.de
END:VEVENT
END:VCALENDAR