BEGIN:VCALENDAR
VERSION:2.0
PRODID:-//Grüne Niedersachsen - ECPv6.15.20//NONSGML v1.0//EN
CALSCALE:GREGORIAN
METHOD:PUBLISH
X-ORIGINAL-URL:https://gruene-niedersachsen.de
X-WR-CALDESC:Veranstaltungen für Grüne Niedersachsen
REFRESH-INTERVAL;VALUE=DURATION:PT1H
X-Robots-Tag:noindex
X-PUBLISHED-TTL:PT1H
BEGIN:VTIMEZONE
TZID:Europe/Berlin
BEGIN:DAYLIGHT
TZOFFSETFROM:+0100
TZOFFSETTO:+0200
TZNAME:CEST
DTSTART:20240331T010000
END:DAYLIGHT
BEGIN:STANDARD
TZOFFSETFROM:+0200
TZOFFSETTO:+0100
TZNAME:CET
DTSTART:20241027T010000
END:STANDARD
BEGIN:DAYLIGHT
TZOFFSETFROM:+0100
TZOFFSETTO:+0200
TZNAME:CEST
DTSTART:20250330T010000
END:DAYLIGHT
BEGIN:STANDARD
TZOFFSETFROM:+0200
TZOFFSETTO:+0100
TZNAME:CET
DTSTART:20251026T010000
END:STANDARD
BEGIN:DAYLIGHT
TZOFFSETFROM:+0100
TZOFFSETTO:+0200
TZNAME:CEST
DTSTART:20260329T010000
END:DAYLIGHT
BEGIN:STANDARD
TZOFFSETFROM:+0200
TZOFFSETTO:+0100
TZNAME:CET
DTSTART:20261025T010000
END:STANDARD
BEGIN:DAYLIGHT
TZOFFSETFROM:+0100
TZOFFSETTO:+0200
TZNAME:CEST
DTSTART:20270328T010000
END:DAYLIGHT
BEGIN:STANDARD
TZOFFSETFROM:+0200
TZOFFSETTO:+0100
TZNAME:CET
DTSTART:20271031T010000
END:STANDARD
END:VTIMEZONE
BEGIN:VEVENT
DTSTART;TZID=Europe/Berlin:20260409T180000
DTEND;TZID=Europe/Berlin:20260409T193000
DTSTAMP:20260423T184333
CREATED:20260326T081227Z
LAST-MODIFIED:20260326T081432Z
UID:10001387-1775757600-1775763000@gruene-niedersachsen.de
SUMMARY:LAG Mobilität und Verkehr
DESCRIPTION:Zugangsdaten erfragen unter: lag-verkehr@gruene-niedersachsen.de \nVorläufige Tagesordnung \nTOP 1: Schwerpunkt-Jahresthemen (Vorschlag aus Themenspeicher und Mitteilungen: Was Kostet Mobilität/ehrliche Kostenrechnung\, Sicherheit im Straßenraum für Kinder) \nTOP 2: BAG Positionspapier „Strategie 2040“ \nTOP 3: Anträge für die kommende LDK in Emden\nTOP 4: Neues von der Bahnstrecke Hamburg-Hannover (Berichte) \nTOP 5: Berichte (Landtag\, Bundestag\, BAG\, Norddeutsches Verkehrstreffen\, Sprecher*innentreffen) \nTOP 6: Verschiedenes \n  \nDie Landesarbeitsgemeinschaften (LAGen) tagen öffentlich. Mitglieder und Nicht-Mitglieder\, die sich für das Thema interessieren\, sind gerne gesehen und können aktiv teilnehmen. Bei Interesse könnt ihr direkt zum Treffen gehen oder euch bei den Sprecher*innen ankündigen.
URL:https://gruene-niedersachsen.de/termin/lag-mobilitaet-und-verkehr-13/
LOCATION:Online
CATEGORIES:LAG Mobilität und Verkehr
ORGANIZER;CN="LAG Mobilit%C3%A4t und Verkehr":MAILTO:lag-verkehr@gruene-niedersachsen.de
END:VEVENT
BEGIN:VEVENT
DTSTART;TZID=Europe/Berlin:20251126T180000
DTEND;TZID=Europe/Berlin:20251126T210000
DTSTAMP:20260423T184333
CREATED:20260114T160114Z
LAST-MODIFIED:20260114T160114Z
UID:10000059-1764180000-1764190800@gruene-niedersachsen.de
SUMMARY:LAG Mobilität und Verkehr
DESCRIPTION:Liebe Interessierte am öffentlichen Personennahverkehr\, \nwir laden euch herzlich zu einem Themenabend rund um die Finanzierung des ÖPNV ein. Das Format bietet Raum\, um die Idee einer beitragsfinanzierten Mobilität genauer kennenzulernen\, kritisch zu beleuchten und gemeinsam zu diskutieren. \nAnmeldung bitte hier \nMit fachlichen Impulsen von Katja Diehl und Prof. Dr. Andreas Knie wollen wir über den Tellerrand schauen: Wie kann der ÖPNV künftig finanziert und gestaltet werden? Welche Chancen eröffnet eine Beitragsfinanzierung – und wo liegen mögliche Herausforderungen? \nJulia Stock und Leo Pröttel führen durch den Abend und stellen das Konzept des beitragsfinanzierten ÖPNV vor. Gemeinsam wollen wir ergründen: \nWelche Spielräume eröffnen zweckgebundene Mehreinnahmen?\nWie kann der ÖPNV ausgebaut und attraktiver gestaltet werden?\nWie funktioniert das System der Beitragsfinanzierung konkret? \nIn früheren Themenabenden zu On-Demand-Verkehren und autonomem Fahren haben wir bereits spannende Perspektiven kennengelernt. Nun möchten wir gemeinsam ein umfassendes Bild zeichnen\, wie ein komfortabler\, gerechter und zukunftsfähiger ÖPNV im ländlichen Raum ebenso wie in der Stadt aussehen kann. \nWir werfen außerdem einen Blick auf Best-Practice-Beispiele aus autonomen und nachfrageorientierten Verkehren: Welche Ansätze sind besonders vielversprechend? Welche Hindernisse gilt es zu überwinden\, und welche regionalen Unterschiede spielen eine Rolle? \nZum Abschluss diskutieren wir:\nWelches Potenzial steckt in der Beitragsfinanzierung? Welche sozialen Effekte sind zu erwarten – kann sie Mobilitätsarmut abbauen und zur Angleichung der Lebensverhältnisse beitragen? \nSeid dabei – wir freuen uns auf einen inspirierenden Austausch! \n  \nReferent*innen: \nProf. Dr. Andreas Knie – Sozialwissenschaftler und Prof. für Soziologie \nKatja Diehl – Mobilitätsexpertin\, Podcasterin und Autorin \nJulia Stock – Arbeitskreis Beitragsfinanzierung ÖPNV (BAG MoVe) \n  \nWir freuen uns auf die Diskussion mit euch und ihnen!“ \nAn Zoom-Meeting teilnehmen\nhttps://eu02web.zoom-x.de/j/67284100797?pwd=zVpJdYdMlMERV4HbMaPzw4ETSiQvY6.1 \nMeeting-ID: 672 8410 0797\nKenncode: 407633 \nDie Landesarbeitsgemeinschaften (LAGen) tagen öffentlich. Mitglieder und Nicht-Mitglieder\, die sich für das Thema interessieren\, sind gerne gesehen und können aktiv teilnehmen. Bei Interesse könnt ihr direkt zum Treffen gehen oder euch bei den Sprecher*innen ankündigen.
URL:https://gruene-niedersachsen.de/termin/lag-mobilitaet-und-verkehr/
LOCATION:Online
ORGANIZER;CN="LAG Mobilit%C3%A4t und Verkehr":MAILTO:lag-verkehr@gruene-niedersachsen.de
END:VEVENT
BEGIN:VEVENT
DTSTART;TZID=Europe/Berlin:20251117T190000
DTEND;TZID=Europe/Berlin:20251117T210000
DTSTAMP:20260423T184333
CREATED:20260114T160127Z
LAST-MODIFIED:20260114T160127Z
UID:10000161-1763406000-1763413200@gruene-niedersachsen.de
SUMMARY:LAG Mobilität und Verkehr
DESCRIPTION:Bitte Zugangsdaten erfragen unter: lag-verkehr@gruene-niedersachsen.de \n  \nDie Landesarbeitsgemeinschaften (LAGen) tagen öffentlich. Mitglieder und Nicht-Mitglieder\, die sich für das Thema interessieren\, sind gerne gesehen und können aktiv teilnehmen. Bei Interesse könnt ihr direkt zum Treffen gehen oder euch bei den Sprecher*innen ankündigen.
URL:https://gruene-niedersachsen.de/termin/lag-mobilitaet-und-verkehr-2/
LOCATION:Online
ORGANIZER;CN="LAG Mobilit%C3%A4t und Verkehr":MAILTO:lag-verkehr@gruene-niedersachsen.de
END:VEVENT
BEGIN:VEVENT
DTSTART;TZID=Europe/Berlin:20250927T100000
DTEND;TZID=Europe/Berlin:20250927T140000
DTSTAMP:20260423T184333
CREATED:20260114T160127Z
LAST-MODIFIED:20260114T160127Z
UID:10000162-1758967200-1758981600@gruene-niedersachsen.de
SUMMARY:LAG Mobilität und Verkehr
DESCRIPTION:Bitte Zugangsdaten erfragen unter: lag-verkehr@gruene-niedersachsen.de \nTreffpunkt: Ab 10h im Fahrradparkhaus am Bahnhof in Osnabrück \nTagesordnung \nTOP 1: Besichtigung von Deutschlands größtem Fahrradparkhaus. Wer kein Fahrrad hat\, der kann sich während des TOPS eines ausleihen. \nTOP 2: Fahrradtour. Es gibt verschiedene Ziele\, die wir vor Ort abstimmen. \nAb ca. 11h30/12h00: Eintreffen im Grünen Büro (falls möglich\, oder anderer Standort) \nTOP 3: Neues von der Bahnstrecke Hamburg-Hannover\, Berichte dazu \nTOP 4: Berichte \nTOP 5: Verschiedenes \n  \nDie Landesarbeitsgemeinschaften (LAGen) tagen öffentlich. Mitglieder und Nicht-Mitglieder\, die sich für das Thema interessieren\, sind gerne gesehen und können aktiv teilnehmen. Bei Interesse könnt ihr direkt zum Treffen gehen oder euch bei den Sprecher*innen ankündigen.
URL:https://gruene-niedersachsen.de/termin/lag-mobilitaet-und-verkehr-3/
LOCATION:VHS Osnabrück\, Bergstraße 8\, Osnabrück\, 49076
ORGANIZER;CN="LAG Mobilit%C3%A4t und Verkehr":MAILTO:lag-verkehr@gruene-niedersachsen.de
END:VEVENT
END:VCALENDAR